BEGIN:VCALENDAR
VERSION:2.0
PRODID:-//MP Karate Association - ECPv6.15.12.2//NONSGML v1.0//EN
CALSCALE:GREGORIAN
METHOD:PUBLISH
X-ORIGINAL-URL:https://mpkarateassociation.com
X-WR-CALDESC:Events for MP Karate Association
REFRESH-INTERVAL;VALUE=DURATION:PT1H
X-Robots-Tag:noindex
X-PUBLISHED-TTL:PT1H
BEGIN:VTIMEZONE
TZID:Asia/Kolkata
BEGIN:STANDARD
TZOFFSETFROM:+0530
TZOFFSETTO:+0530
TZNAME:IST
DTSTART:20230101T000000
END:STANDARD
END:VTIMEZONE
BEGIN:VEVENT
DTSTART;TZID=Asia/Kolkata:20250119T100000
DTEND;TZID=Asia/Kolkata:20250119T170000
DTSTAMP:20260423T223419
CREATED:20240923T103540Z
LAST-MODIFIED:20240923T103756Z
UID:12618-1737280800-1737306000@mpkarateassociation.com
SUMMARY:Bharat-Ratan National Karate Championship 2025
DESCRIPTION:BHARAT-RATAN_2025-1-1
URL:https://mpkarateassociation.com/event/bharat-ratan-national-karate-championship-2025/
LOCATION:Shrimant tukoji rao pawar indoor stadium dewas (M.P.)\, Dewas\, Dewas\, M.P.\, 455001\, India
CATEGORIES:upcomimg
ATTACH;FMTTYPE=image/png:https://mpkarateassociation.com/wp-content/uploads/2024/09/bharat-ratan-champion-2025.png
ORGANIZER;CN="M.P. karate Association Karate Association Of Dewas":MAILTO:mpkarateassociation2010@gmail.com
END:VEVENT
BEGIN:VEVENT
DTSTART;TZID=Asia/Kolkata:20241123T100000
DTEND;TZID=Asia/Kolkata:20241124T050000
DTSTAMP:20260423T223419
CREATED:20240923T095404Z
LAST-MODIFIED:20240923T100519Z
UID:12596-1732356000-1732424400@mpkarateassociation.com
SUMMARY:Madhya Pradesh Karate Championship 2024
DESCRIPTION:MP-Karate-Championship_2024-1
URL:https://mpkarateassociation.com/event/madhya-pradesh-karate-championship-2024/
LOCATION:Indore Public School\, Knowledge Village Rajendra Nagar\, AB Road\, Bijalpur\, Indore\, Madhya Pradesh\, Indore\, Madhya Pradesh\, 452012\, India
CATEGORIES:upcomimg
ATTACH;FMTTYPE=image/png:https://mpkarateassociation.com/wp-content/uploads/2024/09/mp-champioan-2024.png
ORGANIZER;CN="M.P. karate Association Karate Association Of Dewas":MAILTO:mpkarateassociation2010@gmail.com
END:VEVENT
BEGIN:VEVENT
DTSTART;TZID=Asia/Kolkata:20240417T080000
DTEND;TZID=Asia/Kolkata:20240417T170000
DTSTAMP:20260423T223419
CREATED:20240412T140428Z
LAST-MODIFIED:20240412T140428Z
UID:12560-1713340800-1713373200@mpkarateassociation.com
SUMMARY:01 Event
DESCRIPTION:
URL:https://mpkarateassociation.com/event/01-event/
LOCATION:indore\, indore\, indore\, Madhya Pradesh\, 451010\, India
CATEGORIES:upcomimg
ATTACH;FMTTYPE=image/jpeg:https://mpkarateassociation.com/wp-content/uploads/2024/04/event-01.jpg
ORGANIZER;CN="M.P. karate Association Karate Association Of Dewas":MAILTO:mpkarateassociation2010@gmail.com
END:VEVENT
END:VCALENDAR