BEGIN:VCALENDAR
VERSION:2.0
PRODID:-//MP Karate Association - ECPv6.15.12.2//NONSGML v1.0//EN
CALSCALE:GREGORIAN
METHOD:PUBLISH
X-WR-CALNAME:MP Karate Association
X-ORIGINAL-URL:https://mpkarateassociation.com
X-WR-CALDESC:Events for MP Karate Association
REFRESH-INTERVAL;VALUE=DURATION:PT1H
X-Robots-Tag:noindex
X-PUBLISHED-TTL:PT1H
BEGIN:VTIMEZONE
TZID:Asia/Kolkata
BEGIN:STANDARD
TZOFFSETFROM:+0530
TZOFFSETTO:+0530
TZNAME:IST
DTSTART:20180101T000000
END:STANDARD
END:VTIMEZONE
BEGIN:VEVENT
DTSTART;TZID=Asia/Kolkata:20240121T100000
DTEND;TZID=Asia/Kolkata:20240121T170000
DTSTAMP:20260423T223418
CREATED:20240105T073029Z
LAST-MODIFIED:20240327T193522Z
UID:7229-1705831200-1705856400@mpkarateassociation.com
SUMMARY:Bharat-Ratan National Karate Championship 2024
DESCRIPTION:BHARAT RATAN_2024
URL:https://mpkarateassociation.com/event/bharat-ratan-national-karate-championship-2024/
LOCATION:Shrimant tukoji rao pawar indoor stadium dewas (M.P.)\, Dewas\, Dewas\, M.P.\, 455001\, India
CATEGORIES:past events
ATTACH;FMTTYPE=image/png:https://mpkarateassociation.com/wp-content/uploads/2024/01/Event-img.png
ORGANIZER;CN="M.P. karate Association Karate Association Of Dewas":MAILTO:mpkarateassociation2010@gmail.com
END:VEVENT
BEGIN:VEVENT
DTSTART;TZID=Asia/Kolkata:20231222T100000
DTEND;TZID=Asia/Kolkata:20231223T050000
DTSTAMP:20260423T223418
CREATED:20231220T050910Z
LAST-MODIFIED:20240328T083447Z
UID:7646-1703239200-1703307600@mpkarateassociation.com
SUMMARY:Madhya Pradesh Karate Championship 2023
DESCRIPTION:MP-Karate-Championship_22-23-Dec-2023
URL:https://mpkarateassociation.com/event/madhya-pradesh-karate-championship-2023/
LOCATION:Indore Public School\, Knowledge Village Rajendra Nagar\, AB Road\, Bijalpur\, Indore\, Madhya Pradesh\, Indore\, Madhya Pradesh\, 452012\, India
CATEGORIES:past events
ATTACH;FMTTYPE=image/png:https://mpkarateassociation.com/wp-content/uploads/2024/03/mp-karatee-2023.png
ORGANIZER;CN="M.P. karate Association Karate Association Of Dewas":MAILTO:mpkarateassociation2010@gmail.com
END:VEVENT
BEGIN:VEVENT
DTSTART;VALUE=DATE:20200102
DTEND;VALUE=DATE:20200107
DTSTAMP:20260423T223418
CREATED:20191212T114818Z
LAST-MODIFIED:20240327T215329Z
UID:1920-1577923200-1578355199@mpkarateassociation.com
SUMMARY:M.P. State Karate Championship Dhar 2020
DESCRIPTION:M.P. State Karate Championship Dhar 2020\nMP-STATE-Karate-2020-Dhar2\nDownload PDF
URL:https://mpkarateassociation.com/event/m-p-state-karate-championship-dhar-2020/
LOCATION:SAI SAG Center\, Dhar Madhya Pradesh\, SAI SAG Center\, Dhar\, Madhya Pradesh\, 454775\, India
CATEGORIES:past events
ATTACH;FMTTYPE=image/png:https://mpkarateassociation.com/wp-content/uploads/2019/12/logo-icon.png
END:VEVENT
BEGIN:VEVENT
DTSTART;VALUE=DATE:20191221
DTEND;VALUE=DATE:20191224
DTSTAMP:20260423T223418
CREATED:20191104T115333Z
LAST-MODIFIED:20240327T215331Z
UID:1864-1576886400-1577145599@mpkarateassociation.com
SUMMARY:West Zone Karate Championship - Goa
DESCRIPTION:West Zone Karate Championship – Goa\nWIKA_BULLETIN_2019\nDownload PDF
URL:https://mpkarateassociation.com/event/west-zone-karate-championship-goa/
LOCATION:Goa\, Goa\, Goa\, India
CATEGORIES:past events
ATTACH;FMTTYPE=image/png:https://mpkarateassociation.com/wp-content/uploads/2019/11/wika.png
END:VEVENT
BEGIN:VEVENT
DTSTART;VALUE=DATE:20191201
DTEND;VALUE=DATE:20191207
DTSTAMP:20260423T223418
CREATED:20191104T092723Z
LAST-MODIFIED:20240327T215333Z
UID:1855-1575158400-1575676799@mpkarateassociation.com
SUMMARY:65 th SGFI under 14\, under 17 and under 19 years National karate Championship - Jabalpur
DESCRIPTION:65th SGFI under 14\, under 17 and under 19 years National Karate Championship – Jabalpur (M.P.)\nLetter_Kar_Jabalpur_19-20\nDownload PDF
URL:https://mpkarateassociation.com/event/65-th-sgfi-under-14-under-17-and-under-19-years-national-karate-championship-jabalpur/
LOCATION:Govt. M.L.B.G.H.S. School\, Jabalpur\, Govt. M.L.B.G.H.S. School\, Jabalpur\, Jabalpur\, Madhya Pradesh\, 482001\, India
CATEGORIES:past events
ATTACH;FMTTYPE=image/png:https://mpkarateassociation.com/wp-content/uploads/2019/11/SGF-India_logo_0.png
END:VEVENT
END:VCALENDAR